BEGIN:VCALENDAR
VERSION:2.0
PRODID:-//Post 174 - ECPv6.15.20//NONSGML v1.0//EN
CALSCALE:GREGORIAN
METHOD:PUBLISH
X-WR-CALNAME:Post 174
X-ORIGINAL-URL:https://sclegionpost174.org
X-WR-CALDESC:Events for Post 174
REFRESH-INTERVAL;VALUE=DURATION:PT1H
X-Robots-Tag:noindex
X-PUBLISHED-TTL:PT1H
BEGIN:VTIMEZONE
TZID:UTC
BEGIN:STANDARD
TZOFFSETFROM:+0000
TZOFFSETTO:+0000
TZNAME:UTC
DTSTART:20240101T000000
END:STANDARD
END:VTIMEZONE
BEGIN:VEVENT
DTSTART;TZID=UTC:20250526T100000
DTEND;TZID=UTC:20250526T140000
DTSTAMP:20260423T233245
CREATED:20250507T140143Z
LAST-MODIFIED:20250507T140203Z
UID:978-1748253600-1748268000@sclegionpost174.org
SUMMARY:Memorial Day Celebration - Hardee's
DESCRIPTION:
URL:https://sclegionpost174.org/event/memorial-day-celebration-hardees/
LOCATION:Hardee’s\, 496 Piney Grove Rd\, Columbia\, South Carolina\, 29210\, United States
ORGANIZER;CN="Steve Turner":MAILTO:sturner744@aol.com
END:VEVENT
BEGIN:VEVENT
DTSTART;TZID=UTC:20250524T093000
DTEND;TZID=UTC:20250524T170000
DTSTAMP:20260423T233245
CREATED:20250408T192116Z
LAST-MODIFIED:20250408T192143Z
UID:707-1748079000-1748106000@sclegionpost174.org
SUMMARY:Columbiana Centre Mall Recruiting and Fundraiser
DESCRIPTION:
URL:https://sclegionpost174.org/event/columbiana-centre-mall-recruiting-and-fundraiser/
LOCATION:Columbiana Centre\, 100 Columbiana Cir\, Columbia\, South Carolina\, 29212\, United States
END:VEVENT
BEGIN:VEVENT
DTSTART;TZID=UTC:20250517T110000
DTEND;TZID=UTC:20250517T120000
DTSTAMP:20260423T233245
CREATED:20250408T202026Z
LAST-MODIFIED:20250408T202041Z
UID:737-1747479600-1747483200@sclegionpost174.org
SUMMARY:Sons of the American Legion Meeting
DESCRIPTION:Sons of The American Legion. Members include males of all ages whose parents or grandparents served in the U.S. military and were eligible for American Legion.
URL:https://sclegionpost174.org/event/sons-of-the-american-legion-meeting-2/
LOCATION:American Legion Post 174\, 801 Piney Woods Rd.\, Columbia\, SC\, 29210\, United States
END:VEVENT
BEGIN:VEVENT
DTSTART;TZID=UTC:20250506T183000
DTEND;TZID=UTC:20250506T203000
DTSTAMP:20260423T233245
CREATED:20250404T141524Z
LAST-MODIFIED:20250827T221135Z
UID:548-1746556200-1746563400@sclegionpost174.org
SUMMARY:Post Meeting - 6 May 2025
DESCRIPTION:Our monthly Post meeting is the first Tuesday of each month beginning at 6:30pm with a meal provided by the Ladies Auxiliary.
URL:https://sclegionpost174.org/event/next-meeting-6-may-2025/
LOCATION:American Legion Post 174\, 801 Piney Woods Rd.\, Columbia\, SC\, 29210\, United States
CATEGORIES:Post Events
END:VEVENT
BEGIN:VEVENT
DTSTART;TZID=UTC:20250419T110000
DTEND;TZID=UTC:20250419T120000
DTSTAMP:20260423T233245
CREATED:20250408T190839Z
LAST-MODIFIED:20250408T195447Z
UID:701-1745060400-1745064000@sclegionpost174.org
SUMMARY:Sons of the American Legion Meeting
DESCRIPTION:Sons of The American Legion. Members include males of all ages whose parents or grandparents served in the U.S. military and were eligible for American Legion.
URL:https://sclegionpost174.org/event/sons-of-the-american-legion-meeting/
LOCATION:American Legion Post 174\, 801 Piney Woods Rd.\, Columbia\, SC\, 29210\, United States
END:VEVENT
END:VCALENDAR