BEGIN:VCALENDAR
VERSION:2.0
PRODID:-//Post 174 - ECPv6.15.20//NONSGML v1.0//EN
CALSCALE:GREGORIAN
METHOD:PUBLISH
X-WR-CALNAME:Post 174
X-ORIGINAL-URL:https://sclegionpost174.org
X-WR-CALDESC:Events for Post 174
REFRESH-INTERVAL;VALUE=DURATION:PT1H
X-Robots-Tag:noindex
X-PUBLISHED-TTL:PT1H
BEGIN:VTIMEZONE
TZID:UTC
BEGIN:STANDARD
TZOFFSETFROM:+0000
TZOFFSETTO:+0000
TZNAME:UTC
DTSTART:20250101T000000
END:STANDARD
END:VTIMEZONE
BEGIN:VEVENT
DTSTART;TZID=UTC:20260418T100000
DTEND;TZID=UTC:20260418T110000
DTSTAMP:20260423T232807
CREATED:20250611T231959Z
LAST-MODIFIED:20250611T232017Z
UID:1024-1776506400-1776510000@sclegionpost174.org
SUMMARY:AL District Meeting - Post 130 Cayce
DESCRIPTION:
URL:https://sclegionpost174.org/event/al-district-meeting-post-130-cayce/
END:VEVENT
END:VCALENDAR