BEGIN:VCALENDAR
VERSION:2.0
PRODID:-//Post 174 - ECPv6.15.20//NONSGML v1.0//EN
CALSCALE:GREGORIAN
METHOD:PUBLISH
X-WR-CALNAME:Post 174
X-ORIGINAL-URL:https://sclegionpost174.org
X-WR-CALDESC:Events for Post 174
REFRESH-INTERVAL;VALUE=DURATION:PT1H
X-Robots-Tag:noindex
X-PUBLISHED-TTL:PT1H
BEGIN:VTIMEZONE
TZID:UTC
BEGIN:STANDARD
TZOFFSETFROM:+0000
TZOFFSETTO:+0000
TZNAME:UTC
DTSTART:20240101T000000
END:STANDARD
END:VTIMEZONE
BEGIN:VEVENT
DTSTART;TZID=UTC:20251213T120000
DTEND;TZID=UTC:20251213T170000
DTSTAMP:20260423T215444
CREATED:20250826T180418Z
LAST-MODIFIED:20250827T215246Z
UID:1696-1765627200-1765645200@sclegionpost174.org
SUMMARY:Family Night - Ice Cream and Popcorn Social
DESCRIPTION:Old fashion ice-cream social\, make your own floats\, have some popcorn and drinks and let the kids have fun. Dogs are welcome!!
URL:https://sclegionpost174.org/event/family-night-ice-cream-and-popcorn-social/
CATEGORIES:Post Events
END:VEVENT
BEGIN:VEVENT
DTSTART;TZID=UTC:20251213T023000
DTEND;TZID=UTC:20251213T030000
DTSTAMP:20260423T215444
CREATED:20250805T215525Z
LAST-MODIFIED:20250805T215555Z
UID:1466-1765593000-1765594800@sclegionpost174.org
SUMMARY:ALA Department Christmas Drop-in
DESCRIPTION:
URL:https://sclegionpost174.org/event/ala-department-christmas-drop-in/
END:VEVENT
BEGIN:VEVENT
DTSTART;TZID=UTC:20251210T080000
DTEND;TZID=UTC:20251210T170000
DTSTAMP:20260423T215444
CREATED:20250805T214451Z
LAST-MODIFIED:20250805T214527Z
UID:1463-1765353600-1765386000@sclegionpost174.org
SUMMARY:Pearl Harbor Day
DESCRIPTION:
URL:https://sclegionpost174.org/event/pearl-harbor-day/
END:VEVENT
BEGIN:VEVENT
DTSTART;TZID=UTC:20251202T183000
DTEND;TZID=UTC:20251202T203000
DTSTAMP:20260423T215444
CREATED:20250807T154627Z
LAST-MODIFIED:20250827T221713Z
UID:1523-1764700200-1764707400@sclegionpost174.org
SUMMARY:Post Meeting
DESCRIPTION:
URL:https://sclegionpost174.org/event/post-meeting-5/
CATEGORIES:Post Events
END:VEVENT
BEGIN:VEVENT
DTSTART;TZID=UTC:20251122T093000
DTEND;TZID=UTC:20251122T170000
DTSTAMP:20260423T215444
CREATED:20250829T150153Z
LAST-MODIFIED:20250829T150348Z
UID:1735-1763803800-1763830800@sclegionpost174.org
SUMMARY:Columbiana Centre Mall Recruiting and Fundraiser
DESCRIPTION:Phil Hackler 210-831-5956
URL:https://sclegionpost174.org/event/columbiana-centre-mall-recruiting-and-fundraiser-4/
CATEGORIES:Outside Events
END:VEVENT
BEGIN:VEVENT
DTSTART;TZID=UTC:20251120T183000
DTEND;TZID=UTC:20251120T190000
DTSTAMP:20260423T215444
CREATED:20250702T175205Z
LAST-MODIFIED:20250827T220334Z
UID:1104-1763663400-1763665200@sclegionpost174.org
SUMMARY:Steering Committee ZOOM Meeting
DESCRIPTION:ZOOM instructions will be sent prior to the meeting
URL:https://sclegionpost174.org/event/steering-committee-zoom-meeting-4/
LOCATION:ZOOM
CATEGORIES:Zoom Calls
END:VEVENT
BEGIN:VEVENT
DTSTART;TZID=UTC:20251113T080000
DTEND;TZID=UTC:20251113T170000
DTSTAMP:20260423T215444
CREATED:20250805T213955Z
LAST-MODIFIED:20250805T214249Z
UID:1461-1763020800-1763053200@sclegionpost174.org
SUMMARY:Veteran's Day
DESCRIPTION:Day
URL:https://sclegionpost174.org/event/veterans-day/
END:VEVENT
BEGIN:VEVENT
DTSTART;TZID=UTC:20251104T183000
DTEND;TZID=UTC:20251104T203000
DTSTAMP:20260423T215444
CREATED:20250807T154343Z
LAST-MODIFIED:20250827T221639Z
UID:1520-1762281000-1762288200@sclegionpost174.org
SUMMARY:Post Meeting
DESCRIPTION:
URL:https://sclegionpost174.org/event/post-meeting-4/
CATEGORIES:Post Events
END:VEVENT
BEGIN:VEVENT
DTSTART;TZID=UTC:20251025T093000
DTEND;TZID=UTC:20251025T170000
DTSTAMP:20260423T215444
CREATED:20250829T145526Z
LAST-MODIFIED:20250829T145921Z
UID:1731-1761384600-1761411600@sclegionpost174.org
SUMMARY:Columbiana Centre Mall Recruiting and Fundraiser
DESCRIPTION:Phil Hackler 210-831-5956
URL:https://sclegionpost174.org/event/phil-hackler-210-831-5956columbiana-centre-mall-recruiting-and-fundraiserphil-hackler-210-831-5956columbiana-centre-mall-recruiting-and-fundraiser/
CATEGORIES:Outside Events
END:VEVENT
BEGIN:VEVENT
DTSTART;TZID=UTC:20251018T100000
DTEND;TZID=UTC:20251018T110000
DTSTAMP:20260423T215444
CREATED:20250611T231115Z
LAST-MODIFIED:20250827T221613Z
UID:1020-1760781600-1760785200@sclegionpost174.org
SUMMARY:AL District Meeting - Post 6 Columbia
DESCRIPTION:
URL:https://sclegionpost174.org/event/al-district-meeting-post-6-columbia/
CATEGORIES:Outside Events
END:VEVENT
BEGIN:VEVENT
DTSTART;TZID=UTC:20251017T200000
DTEND;TZID=UTC:20251017T230000
DTSTAMP:20260423T215444
CREATED:20250826T174357Z
LAST-MODIFIED:20250827T221557Z
UID:1694-1760731200-1760742000@sclegionpost174.org
SUMMARY:Family Night - Movie Night
DESCRIPTION:Bring the family out for drive in movie night (family friendly movie tbd)\, free popcorn and drinks provided.
URL:https://sclegionpost174.org/event/family-night-movie-night/
CATEGORIES:Post Events
END:VEVENT
BEGIN:VEVENT
DTSTART;TZID=UTC:20251016T183000
DTEND;TZID=UTC:20251016T190000
DTSTAMP:20260423T215444
CREATED:20250702T173905Z
LAST-MODIFIED:20250827T220401Z
UID:1100-1760639400-1760641200@sclegionpost174.org
SUMMARY:Steering Committee ZOOM Meeting
DESCRIPTION:ZOOM instructions will be sent prior to the meeting.
URL:https://sclegionpost174.org/event/steering-committee-zoom-meeting-3/
LOCATION:ZOOM
CATEGORIES:Zoom Calls
END:VEVENT
BEGIN:VEVENT
DTSTART;TZID=UTC:20251007T183000
DTEND;TZID=UTC:20251007T203000
DTSTAMP:20260423T215444
CREATED:20250807T154225Z
LAST-MODIFIED:20250827T221534Z
UID:1518-1759861800-1759869000@sclegionpost174.org
SUMMARY:Post Meeting
DESCRIPTION:
URL:https://sclegionpost174.org/event/post-meeting-3/
CATEGORIES:Post Events
END:VEVENT
BEGIN:VEVENT
DTSTART;TZID=UTC:20251005T130000
DTEND;TZID=UTC:20251005T200000
DTSTAMP:20260423T215444
CREATED:20250911T221821Z
LAST-MODIFIED:20250911T221904Z
UID:1783-1759669200-1759694400@sclegionpost174.org
SUMMARY:Private Event: Thompson Party
DESCRIPTION:
URL:https://sclegionpost174.org/event/private-event-thompson-party/
END:VEVENT
BEGIN:VEVENT
DTSTART;TZID=UTC:20251004T090000
DTEND;TZID=UTC:20251004T120000
DTSTAMP:20260423T215444
CREATED:20250903T153446Z
LAST-MODIFIED:20250904T111913Z
UID:1758-1759568400-1759579200@sclegionpost174.org
SUMMARY:Blood Drive
DESCRIPTION:Incentive – $30 e-gift card + $10 give back
URL:https://sclegionpost174.org/event/blood-drive-2/
LOCATION:American Legion Post 174\, 801 Piney Woods Road\, Columbia\, South Carolina\, 29210\, United States
CATEGORIES:Post Events
END:VEVENT
BEGIN:VEVENT
DTSTART;TZID=UTC:20250927T090000
DTEND;TZID=UTC:20250927T170000
DTSTAMP:20260423T215444
CREATED:20250829T195523Z
LAST-MODIFIED:20250829T200802Z
UID:1739-1758963600-1758992400@sclegionpost174.org
SUMMARY:Irmo Okra Strut 2025 - Day 2
DESCRIPTION:Since forming in 1961\, the Lake Murray-Irmo Woman’s Club has been dedicated to improving the local community. Their outreach became the foundation of the annual Okra Strut. In the early 1970’s\, the Woman’s Club set out to raise funds for building a library in Irmo. The large amount of funds required for a new library made it a daunting task for the Lake Murray-Irmo Woman’s Club. To this day\, the Lake Murray-Irmo Woman’s Club is our preferred Okra Vendor! We appreciate you supporting their fundraising efforts and trying their amazing okra!
URL:https://sclegionpost174.org/event/irmo-okra-strut-2025-2/
CATEGORIES:Outside Events
END:VEVENT
BEGIN:VEVENT
DTSTART;TZID=UTC:20250926T180000
DTEND;TZID=UTC:20250926T230000
DTSTAMP:20260423T215444
CREATED:20250616T132341Z
LAST-MODIFIED:20250829T200408Z
UID:1066-1758909600-1758927600@sclegionpost174.org
SUMMARY:Irmo Okra Strut 2025 - Day 1
DESCRIPTION:Since forming in 1961\, the Lake Murray-Irmo Woman’s Club has been dedicated to improving the local community. Their outreach became the foundation of the annual Okra Strut. In the early 1970’s\, the Woman’s Club set out to raise funds for building a library in Irmo. The large amount of funds required for a new library made it a daunting task for the Lake Murray-Irmo Woman’s Club. To this day\, the Lake Murray-Irmo Woman’s Club is our preferred Okra Vendor! We appreciate you supporting their fundraising efforts and trying their amazing okra!
URL:https://sclegionpost174.org/event/irmo-okra-strut-2025/
LOCATION:IrmoStrut\, 7473 Church Street\, Irmo\, South Carolina\, 29063\, United States
CATEGORIES:Outside Events
END:VEVENT
BEGIN:VEVENT
DTSTART;TZID=UTC:20250924T183000
DTEND;TZID=UTC:20250924T193000
DTSTAMP:20260423T215444
CREATED:20250615T220843Z
LAST-MODIFIED:20250827T221430Z
UID:1058-1758738600-1758742200@sclegionpost174.org
SUMMARY:Nondenominational Prayer Group
DESCRIPTION:Join your fellow veterans and post members for an hour of fellowship and Nondenominational Prayer. Family and friends welcome.
URL:https://sclegionpost174.org/event/nondenominational-prayer-group-3/
LOCATION:American Legion Post 174\, 801 Piney Woods Rd.\, Columbia\, SC\, 29210\, United States
CATEGORIES:Post Events
ORGANIZER;CN="Matt S.":MAILTO:matt@myahpc.com
END:VEVENT
BEGIN:VEVENT
DTSTART;TZID=UTC:20250924T080000
DTEND;TZID=UTC:20250924T170000
DTSTAMP:20260423T215444
CREATED:20250903T105308Z
LAST-MODIFIED:20250903T105541Z
UID:1756-1758700800-1758733200@sclegionpost174.org
SUMMARY:Post Renovations
DESCRIPTION:Deck Construction \n\n\n\n\n\nHall will be closed for back deck construction until 5 PM
URL:https://sclegionpost174.org/event/post-renovations-4/
CATEGORIES:Post Events
END:VEVENT
BEGIN:VEVENT
DTSTART;TZID=UTC:20250921T130000
DTEND;TZID=UTC:20250921T200000
DTSTAMP:20260423T215444
CREATED:20250827T191454Z
LAST-MODIFIED:20250911T190342Z
UID:1709-1758459600-1758484800@sclegionpost174.org
SUMMARY:Private Party - Davis
DESCRIPTION:
URL:https://sclegionpost174.org/event/private-party-davis/
CATEGORIES:Hall Rental
END:VEVENT
BEGIN:VEVENT
DTSTART;TZID=UTC:20250920T120000
DTEND;TZID=UTC:20250920T160000
DTSTAMP:20260423T215444
CREATED:20250826T174136Z
LAST-MODIFIED:20250827T215606Z
UID:1692-1758369600-1758384000@sclegionpost174.org
SUMMARY:Family Night - Chili Cookoff
DESCRIPTION:Bring the family and your best chili for a head-to-head cook off with your fellow vets. Sample and judge other cooks and share some savory ideas.
URL:https://sclegionpost174.org/event/family-night-chili-cookoff/
CATEGORIES:Post Events
END:VEVENT
BEGIN:VEVENT
DTSTART;TZID=UTC:20250919T090000
DTEND;TZID=UTC:20250919T100000
DTSTAMP:20260423T215444
CREATED:20250821T150028Z
LAST-MODIFIED:20250827T221401Z
UID:1624-1758272400-1758276000@sclegionpost174.org
SUMMARY:POW/MIA Remembrance Service
DESCRIPTION:Post 174 POW/MIA Remembrance Service at the Post. Keynote by MG Thomas Mullikin SC-DNR Director\, Remarks by Irmo Mayor Bill Danielson
URL:https://sclegionpost174.org/event/pow-mia-remembrance-service/
CATEGORIES:Post Events
END:VEVENT
BEGIN:VEVENT
DTSTART;TZID=UTC:20250918T183000
DTEND;TZID=UTC:20250918T190000
DTSTAMP:20260423T215444
CREATED:20250702T175615Z
LAST-MODIFIED:20250827T220738Z
UID:1106-1758220200-1758222000@sclegionpost174.org
SUMMARY:Steering Committee ZOOM Meeting
DESCRIPTION:ZOOM instructions will be sent prior to the meeting.
URL:https://sclegionpost174.org/event/steering-committee-zoom-meeting-5/
LOCATION:ZOOM
CATEGORIES:Zoom Calls
END:VEVENT
BEGIN:VEVENT
DTSTART;TZID=UTC:20250910T080000
DTEND;TZID=UTC:20250910T200000
DTSTAMP:20260423T215444
CREATED:20250829T202444Z
LAST-MODIFIED:20250829T202800Z
UID:1750-1757491200-1757534400@sclegionpost174.org
SUMMARY:Post Renovations
DESCRIPTION:Post Renovations – Post is unavailable
URL:https://sclegionpost174.org/event/post-renovations-3/
CATEGORIES:Post Events
END:VEVENT
BEGIN:VEVENT
DTSTART;TZID=UTC:20250909T080000
DTEND;TZID=UTC:20250909T200000
DTSTAMP:20260423T215444
CREATED:20250829T202231Z
LAST-MODIFIED:20250829T202857Z
UID:1748-1757404800-1757448000@sclegionpost174.org
SUMMARY:Post Renovations
DESCRIPTION:Post Renovations – Post is unavailable
URL:https://sclegionpost174.org/event/post-renovations-2/
CATEGORIES:Post Events
END:VEVENT
BEGIN:VEVENT
DTSTART;TZID=UTC:20250908T080000
DTEND;TZID=UTC:20250908T200000
DTSTAMP:20260423T215444
CREATED:20250829T201453Z
LAST-MODIFIED:20250829T202912Z
UID:1746-1757318400-1757361600@sclegionpost174.org
SUMMARY:Post Renovations
DESCRIPTION:Post Renovations – Post is unavailable
URL:https://sclegionpost174.org/event/post-renovations/
CATEGORIES:Post Events
END:VEVENT
BEGIN:VEVENT
DTSTART;TZID=UTC:20250902T183000
DTEND;TZID=UTC:20250902T203000
DTSTAMP:20260423T215444
CREATED:20250807T154016Z
LAST-MODIFIED:20250827T221342Z
UID:1516-1756837800-1756845000@sclegionpost174.org
SUMMARY:Post Meeting
DESCRIPTION:
URL:https://sclegionpost174.org/event/post-meeting-2/
CATEGORIES:Post Events
END:VEVENT
BEGIN:VEVENT
DTSTART;TZID=UTC:20250830T093000
DTEND;TZID=UTC:20250830T170000
DTSTAMP:20260423T215444
CREATED:20250704T104443Z
LAST-MODIFIED:20250827T221327Z
UID:1131-1756546200-1756573200@sclegionpost174.org
SUMMARY:Columbiana Centre Mall Recruiting and Fundraiser
DESCRIPTION:Phil Hackler210-831-5956
URL:https://sclegionpost174.org/event/columbiana-centre-mall-recruiting-and-fundraiser-3/
LOCATION:Columbiana Centre\, 100 Columbiana Cir\, Columbia\, South Carolina\, 29212\, United States
CATEGORIES:Outside Events
END:VEVENT
BEGIN:VEVENT
DTSTART;TZID=UTC:20250830T090000
DTEND;TZID=UTC:20250830T160000
DTSTAMP:20260423T215444
CREATED:20250823T204023Z
LAST-MODIFIED:20250825T214456Z
UID:1629-1756544400-1756569600@sclegionpost174.org
SUMMARY:Mall Recruitment
DESCRIPTION:Recruitment at Columbiana Mall
URL:https://sclegionpost174.org/event/mall-recruitment/
END:VEVENT
BEGIN:VEVENT
DTSTART;TZID=UTC:20250827T183000
DTEND;TZID=UTC:20250827T193000
DTSTAMP:20260423T215444
CREATED:20250615T220330Z
LAST-MODIFIED:20250827T221247Z
UID:1056-1756319400-1756323000@sclegionpost174.org
SUMMARY:Nondenominational Prayer Group
DESCRIPTION:Join your fellow veterans and post members for an hour of fellowship and Nondenominational Prayer. Family and friends welcome.
URL:https://sclegionpost174.org/event/nondenominational-prayer-group-2/
LOCATION:American Legion Post 174\, 801 Piney Woods Rd.\, Columbia\, SC\, 29210\, United States
CATEGORIES:Post Events
ORGANIZER;CN="Matt S.":MAILTO:matt@myahpc.com
END:VEVENT
END:VCALENDAR