BEGIN:VCALENDAR
VERSION:2.0
PRODID:-//Post 174 - ECPv6.15.20//NONSGML v1.0//EN
CALSCALE:GREGORIAN
METHOD:PUBLISH
X-WR-CALNAME:Post 174
X-ORIGINAL-URL:https://sclegionpost174.org
X-WR-CALDESC:Events for Post 174
REFRESH-INTERVAL;VALUE=DURATION:PT1H
X-Robots-Tag:noindex
X-PUBLISHED-TTL:PT1H
BEGIN:VTIMEZONE
TZID:UTC
BEGIN:STANDARD
TZOFFSETFROM:+0000
TZOFFSETTO:+0000
TZNAME:UTC
DTSTART:20240101T000000
END:STANDARD
END:VTIMEZONE
BEGIN:VEVENT
DTSTART;TZID=UTC:20250730T183000
DTEND;TZID=UTC:20250730T193000
DTSTAMP:20260424T045704
CREATED:20250615T215607Z
LAST-MODIFIED:20250615T215627Z
UID:1052-1753900200-1753903800@sclegionpost174.org
SUMMARY:Nondenominational Prayer Group
DESCRIPTION:Join your fellow veterans and post members for an hour of fellowship and Nondenominational Prayer. Family and friends welcome.
URL:https://sclegionpost174.org/event/nondenominational-prayer-group/
LOCATION:American Legion Post 174\, 801 Piney Woods Rd.\, Columbia\, SC\, 29210\, United States
ORGANIZER;CN="Matt S.":MAILTO:matt@myahpc.com
END:VEVENT
BEGIN:VEVENT
DTSTART;TZID=UTC:20250726T200000
DTEND;TZID=UTC:20250726T210000
DTSTAMP:20260424T045704
CREATED:20250612T193752Z
LAST-MODIFIED:20250612T193803Z
UID:1028-1753560000-1753563600@sclegionpost174.org
SUMMARY:Unserviceable Flags Ceremony
DESCRIPTION:
URL:https://sclegionpost174.org/event/unserviceable-flags-ceremony/
LOCATION:American Legion Post 174\, 801 Piney Woods Rd.\, Columbia\, SC\, 29210\, United States
END:VEVENT
BEGIN:VEVENT
DTSTART;TZID=UTC:20250726T093000
DTEND;TZID=UTC:20250726T170000
DTSTAMP:20260424T045704
CREATED:20250704T102738Z
LAST-MODIFIED:20250704T103738Z
UID:1124-1753522200-1753549200@sclegionpost174.org
SUMMARY:Columbiana Centre Mall Recruiting and Fundraiser
DESCRIPTION:Phil Hackler \n\n\n\n210-831-5956
URL:https://sclegionpost174.org/event/columbiana-centre-mall-recruiting-and-fundraiser-2/
LOCATION:Columbiana Centre\, 100 Columbiana Cir\, Columbia\, South Carolina\, 29212\, United States
END:VEVENT
BEGIN:VEVENT
DTSTART;TZID=UTC:20250719T110000
DTEND;TZID=UTC:20250719T120000
DTSTAMP:20260424T045704
CREATED:20250429T115430Z
LAST-MODIFIED:20250429T115450Z
UID:899-1752922800-1752926400@sclegionpost174.org
SUMMARY:Sons of the American Legion Meeting
DESCRIPTION:Sons of The American Legion. Members include males of all ages whose parents or grandparents served in the U.S. military and were eligible for American Legion.
URL:https://sclegionpost174.org/event/sons-of-the-american-legion-meeting-4/
LOCATION:American Legion Post 174\, 801 Piney Woods Rd.\, Columbia\, SC\, 29210\, United States
END:VEVENT
BEGIN:VEVENT
DTSTART;TZID=UTC:20250717T183000
DTEND;TZID=UTC:20250717T190000
DTSTAMP:20260424T045704
CREATED:20250702T155637Z
LAST-MODIFIED:20250827T220717Z
UID:1090-1752777000-1752778800@sclegionpost174.org
SUMMARY:Steering Committee ZOOM Meeting
DESCRIPTION:ZOOM instructions will be sent prior to the meeting.
URL:https://sclegionpost174.org/event/steering-committee-zoom-meeting/
LOCATION:ZOOM
CATEGORIES:Zoom Calls
END:VEVENT
BEGIN:VEVENT
DTSTART;TZID=UTC:20250712T090000
DTEND;TZID=UTC:20250712T130000
DTSTAMP:20260424T045704
CREATED:20250404T135100Z
LAST-MODIFIED:20250408T195926Z
UID:537-1752310800-1752325200@sclegionpost174.org
SUMMARY:American Legion Post 174 5th Annual Car Show
DESCRIPTION:
URL:https://sclegionpost174.org/event/american-legion-post-174-5th-annual-car-show/
LOCATION:American Legion Post 174\, 801 Piney Woods Rd.\, Columbia\, SC\, 29210\, United States
ATTACH;FMTTYPE=image/jpeg:https://sclegionpost174.org/wp-content/uploads/2025/04/FB_IMG_1741803225390.jpg
ORGANIZER;CN="American Legion Post 174":MAILTO:matt@myahpc.com
END:VEVENT
BEGIN:VEVENT
DTSTART;TZID=UTC:20250701T183000
DTEND;TZID=UTC:20250701T203000
DTSTAMP:20260424T045704
CREATED:20250408T203006Z
LAST-MODIFIED:20250408T203022Z
UID:745-1751394600-1751401800@sclegionpost174.org
SUMMARY:Post Meeting - 1 July 2025
DESCRIPTION:Our monthly Post meeting is the first Tuesday of each month beginning at 6:30pm with a meal provided by the Ladies Auxiliary.
URL:https://sclegionpost174.org/event/post-meeting-1-july-2025/
LOCATION:American Legion Post 174\, 801 Piney Woods Rd.\, Columbia\, SC\, 29210\, United States
END:VEVENT
BEGIN:VEVENT
DTSTART;TZID=UTC:20250629T150000
DTEND;TZID=UTC:20250629T183000
DTSTAMP:20260424T045704
CREATED:20250616T131453Z
LAST-MODIFIED:20250616T131506Z
UID:1062-1751209200-1751221800@sclegionpost174.org
SUMMARY:Carolina Celebration of Liberty
DESCRIPTION:38th Annual Celebration – The Carolina Celebration of Liberty is the longest running event of its kind in our state. Led by our Sanctuary Choir and Orchestra\, it is a flag-waving\, patriotic extravaganza in which we honor those presently serving\, our veterans\, and those who have given the final full measure of devotion for our liberty. It is estimated that it has been seen in person and on television by well over one million people.
URL:https://sclegionpost174.org/event/carolina-celebration-of-liberty/
LOCATION:FBC\, 1306 Hampton St.\, Columbia\, South Carolina\, 29201\, United States
END:VEVENT
BEGIN:VEVENT
DTSTART;TZID=UTC:20250628T093000
DTEND;TZID=UTC:20250628T170000
DTSTAMP:20260424T045704
CREATED:20250408T194509Z
LAST-MODIFIED:20250408T195132Z
UID:723-1751103000-1751130000@sclegionpost174.org
SUMMARY:Columbiana Centre Mall Recruiting and Fundraiser
DESCRIPTION:
URL:https://sclegionpost174.org/event/test/
LOCATION:Columbiana Centre\, 100 Columbiana Cir\, Columbia\, South Carolina\, 29212\, United States
END:VEVENT
BEGIN:VEVENT
DTSTART;TZID=UTC:20250614T110000
DTEND;TZID=UTC:20250614T120000
DTSTAMP:20260424T045704
CREATED:20250429T115107Z
LAST-MODIFIED:20250429T115127Z
UID:895-1749898800-1749902400@sclegionpost174.org
SUMMARY:Sons of the American Legion Meeting
DESCRIPTION:Sons of The American Legion. Members include males of all ages whose parents or grandparents served in the U.S. military and were eligible for American Legion.
URL:https://sclegionpost174.org/event/sons-of-the-american-legion-meeting-3/
LOCATION:American Legion Post 174\, 801 Piney Woods Rd.\, Columbia\, SC\, 29210\, United States
END:VEVENT
BEGIN:VEVENT
DTSTART;TZID=UTC:20250603T183000
DTEND;TZID=UTC:20250603T203000
DTSTAMP:20260424T045704
CREATED:20250408T202542Z
LAST-MODIFIED:20250408T203048Z
UID:741-1748975400-1748982600@sclegionpost174.org
SUMMARY:Post Meeting - 3 June 2025
DESCRIPTION:Our monthly Post meeting is the first Tuesday of each month beginning at 6:30pm with a meal provided by the Ladies Auxiliary.
URL:https://sclegionpost174.org/event/post-meeting-3-june-25/
LOCATION:American Legion Post 174\, 801 Piney Woods Rd.\, Columbia\, SC\, 29210\, United States
END:VEVENT
BEGIN:VEVENT
DTSTART;TZID=UTC:20250602T180000
DTEND;TZID=UTC:20250602T200000
DTSTAMP:20260424T045704
CREATED:20250507T142712Z
LAST-MODIFIED:20250507T142723Z
UID:992-1748887200-1748894400@sclegionpost174.org
SUMMARY:Raffle Ticket Turn In
DESCRIPTION:Return all Raffle tickets and proceeds to the Post.
URL:https://sclegionpost174.org/event/raffle-ticket-turn-in/
LOCATION:American Legion Post 174\, 801 Piney Woods Rd.\, Columbia\, SC\, 29210\, United States
ORGANIZER;CN="Philip Hackler":MAILTO:p_hackler11b@yahoo.com
END:VEVENT
BEGIN:VEVENT
DTSTART;TZID=UTC:20250526T100000
DTEND;TZID=UTC:20250526T140000
DTSTAMP:20260424T045704
CREATED:20250507T140143Z
LAST-MODIFIED:20250507T140203Z
UID:978-1748253600-1748268000@sclegionpost174.org
SUMMARY:Memorial Day Celebration - Hardee's
DESCRIPTION:
URL:https://sclegionpost174.org/event/memorial-day-celebration-hardees/
LOCATION:Hardee’s\, 496 Piney Grove Rd\, Columbia\, South Carolina\, 29210\, United States
ORGANIZER;CN="Steve Turner":MAILTO:sturner744@aol.com
END:VEVENT
BEGIN:VEVENT
DTSTART;TZID=UTC:20250524T093000
DTEND;TZID=UTC:20250524T170000
DTSTAMP:20260424T045704
CREATED:20250408T192116Z
LAST-MODIFIED:20250408T192143Z
UID:707-1748079000-1748106000@sclegionpost174.org
SUMMARY:Columbiana Centre Mall Recruiting and Fundraiser
DESCRIPTION:
URL:https://sclegionpost174.org/event/columbiana-centre-mall-recruiting-and-fundraiser/
LOCATION:Columbiana Centre\, 100 Columbiana Cir\, Columbia\, South Carolina\, 29212\, United States
END:VEVENT
BEGIN:VEVENT
DTSTART;TZID=UTC:20250517T110000
DTEND;TZID=UTC:20250517T120000
DTSTAMP:20260424T045704
CREATED:20250408T202026Z
LAST-MODIFIED:20250408T202041Z
UID:737-1747479600-1747483200@sclegionpost174.org
SUMMARY:Sons of the American Legion Meeting
DESCRIPTION:Sons of The American Legion. Members include males of all ages whose parents or grandparents served in the U.S. military and were eligible for American Legion.
URL:https://sclegionpost174.org/event/sons-of-the-american-legion-meeting-2/
LOCATION:American Legion Post 174\, 801 Piney Woods Rd.\, Columbia\, SC\, 29210\, United States
END:VEVENT
BEGIN:VEVENT
DTSTART;TZID=UTC:20250506T183000
DTEND;TZID=UTC:20250506T203000
DTSTAMP:20260424T045704
CREATED:20250404T141524Z
LAST-MODIFIED:20250827T221135Z
UID:548-1746556200-1746563400@sclegionpost174.org
SUMMARY:Post Meeting - 6 May 2025
DESCRIPTION:Our monthly Post meeting is the first Tuesday of each month beginning at 6:30pm with a meal provided by the Ladies Auxiliary.
URL:https://sclegionpost174.org/event/next-meeting-6-may-2025/
LOCATION:American Legion Post 174\, 801 Piney Woods Rd.\, Columbia\, SC\, 29210\, United States
CATEGORIES:Post Events
END:VEVENT
BEGIN:VEVENT
DTSTART;TZID=UTC:20250419T110000
DTEND;TZID=UTC:20250419T120000
DTSTAMP:20260424T045704
CREATED:20250408T190839Z
LAST-MODIFIED:20250408T195447Z
UID:701-1745060400-1745064000@sclegionpost174.org
SUMMARY:Sons of the American Legion Meeting
DESCRIPTION:Sons of The American Legion. Members include males of all ages whose parents or grandparents served in the U.S. military and were eligible for American Legion.
URL:https://sclegionpost174.org/event/sons-of-the-american-legion-meeting/
LOCATION:American Legion Post 174\, 801 Piney Woods Rd.\, Columbia\, SC\, 29210\, United States
END:VEVENT
END:VCALENDAR