BEGIN:VCALENDAR
VERSION:2.0
PRODID:-//Post 174 - ECPv6.15.20//NONSGML v1.0//EN
CALSCALE:GREGORIAN
METHOD:PUBLISH
X-ORIGINAL-URL:https://sclegionpost174.org
X-WR-CALDESC:Events for Post 174
REFRESH-INTERVAL;VALUE=DURATION:PT1H
X-Robots-Tag:noindex
X-PUBLISHED-TTL:PT1H
BEGIN:VTIMEZONE
TZID:UTC
BEGIN:STANDARD
TZOFFSETFROM:+0000
TZOFFSETTO:+0000
TZNAME:UTC
DTSTART:20250101T000000
END:STANDARD
END:VTIMEZONE
BEGIN:VEVENT
DTSTART;TZID=UTC:20260120T180000
DTEND;TZID=UTC:20260120T200000
DTSTAMP:20260423T172106
CREATED:20260107T151640Z
LAST-MODIFIED:20260107T151713Z
UID:1851-1768932000-1768939200@sclegionpost174.org
SUMMARY:Family Bingo Night
DESCRIPTION:Popcorn and drinks will be provided. \n\n\n\nYou can win Cash and Prizes!! \n\n\n\nDobers and cards will be provided.
URL:https://sclegionpost174.org/event/family-bingo-night/
END:VEVENT
END:VCALENDAR